BEGIN:VCALENDAR
VERSION:2.0
PRODID:-//Wagner Motorsports - ECPv6.9.0//NONSGML v1.0//EN
CALSCALE:GREGORIAN
METHOD:PUBLISH
X-WR-CALNAME:Wagner Motorsports
X-ORIGINAL-URL:https://www.wagnermotorsport.com
X-WR-CALDESC:Events for Wagner Motorsports
REFRESH-INTERVAL;VALUE=DURATION:PT1H
X-Robots-Tag:noindex
X-PUBLISHED-TTL:PT1H
BEGIN:VTIMEZONE
TZID:UTC
BEGIN:STANDARD
TZOFFSETFROM:+0000
TZOFFSETTO:+0000
TZNAME:UTC
DTSTART:20260101T000000
END:STANDARD
END:VTIMEZONE
BEGIN:VEVENT
DTSTART;TZID=UTC:20260418T150000
DTEND;TZID=UTC:20260418T180000
DTSTAMP:20260420T163625
CREATED:20260331T165828Z
LAST-MODIFIED:20260331T165836Z
UID:5557-1776524400-1776535200@www.wagnermotorsport.com
SUMMARY:Supercross Watch Party
DESCRIPTION:Get ready for an adrenaline-packed afternoon at Wagner Motorsports! We’re bringing the excitement of Supercross straight to the showroom for Round 14 of the 2026 season. \nJoin us on Saturday\, April 18th at 3PM and catch all the racing action with fellow riders and fans. This isn’t just watching a race — it’s a full-on hangout with the local riding community. \nWe’ll have FREE pizza and cold drinks\, big screen viewing\, and a high-energy atmosphere you won’t get at home. \nWhether you ride\, race\, or just love the sport\, this is your spot to kick back\, talk bikes\, and enjoy the action together. \n📍 Wagner Motorsports460 Southbridge St\, Auburn\, MA \nDon’t watch it alone. Watch it loud.
URL:https://www.wagnermotorsport.com/event/supercross-watch-party/
END:VEVENT
END:VCALENDAR