BEGIN:VCALENDAR
VERSION:2.0
PRODID:-//Wagner Motorsports - ECPv6.9.0//NONSGML v1.0//EN
CALSCALE:GREGORIAN
METHOD:PUBLISH
X-ORIGINAL-URL:https://www.wagnermotorsport.com
X-WR-CALDESC:Events for Wagner Motorsports
REFRESH-INTERVAL;VALUE=DURATION:PT1H
X-Robots-Tag:noindex
X-PUBLISHED-TTL:PT1H
BEGIN:VTIMEZONE
TZID:UTC
BEGIN:STANDARD
TZOFFSETFROM:+0000
TZOFFSETTO:+0000
TZNAME:UTC
DTSTART:20260101T000000
END:STANDARD
END:VTIMEZONE
BEGIN:VEVENT
DTSTART;TZID=UTC:20260404T100000
DTEND;TZID=UTC:20260404T123000
DTSTAMP:20260420T162834
CREATED:20260331T164805Z
LAST-MODIFIED:20260331T164805Z
UID:5554-1775296800-1775305800@www.wagnermotorsport.com
SUMMARY:Wagner Easter Egg Hunt
DESCRIPTION:Easter Egg Hunt at Wagner Motorsports \nWe’re doing Easter our way this year. No baskets\, just bikes\, parts\, and prizes.\nJoin us Saturday\, April 4th at 10AM for an in-store Easter Egg Hunt where you could score: Wagner swag combo 15% off parts Safety check plus 10% off service\nWalk the showroom\, hunt for eggs\, and see what you uncover. Each person is limited to one egg.Whether you’re here to win something or just check out the bikes\, you’re welcome to take your time and enjoy the space.\nNo pressure. Just a good time at your local dealership.\n Wagner Motorsports Starts at 10AM
URL:https://www.wagnermotorsport.com/event/wagner-easter-egg-hunt/
END:VEVENT
END:VCALENDAR